BEGIN:VCALENDAR
VERSION:2.0
PRODID:-//South Sound Bird Alliance - ECPv6.15.15//NONSGML v1.0//EN
CALSCALE:GREGORIAN
METHOD:PUBLISH
X-WR-CALNAME:South Sound Bird Alliance
X-ORIGINAL-URL:https://southsoundbirds.org
X-WR-CALDESC:Events for South Sound Bird Alliance
REFRESH-INTERVAL;VALUE=DURATION:PT1H
X-Robots-Tag:noindex
X-PUBLISHED-TTL:PT1H
BEGIN:VTIMEZONE
TZID:America/Los_Angeles
BEGIN:DAYLIGHT
TZOFFSETFROM:-0800
TZOFFSETTO:-0700
TZNAME:PDT
DTSTART:20250309T100000
END:DAYLIGHT
BEGIN:STANDARD
TZOFFSETFROM:-0700
TZOFFSETTO:-0800
TZNAME:PST
DTSTART:20251102T090000
END:STANDARD
BEGIN:DAYLIGHT
TZOFFSETFROM:-0800
TZOFFSETTO:-0700
TZNAME:PDT
DTSTART:20260308T100000
END:DAYLIGHT
BEGIN:STANDARD
TZOFFSETFROM:-0700
TZOFFSETTO:-0800
TZNAME:PST
DTSTART:20261101T090000
END:STANDARD
BEGIN:DAYLIGHT
TZOFFSETFROM:-0800
TZOFFSETTO:-0700
TZNAME:PDT
DTSTART:20270314T100000
END:DAYLIGHT
BEGIN:STANDARD
TZOFFSETFROM:-0700
TZOFFSETTO:-0800
TZNAME:PST
DTSTART:20271107T090000
END:STANDARD
END:VTIMEZONE
BEGIN:VEVENT
DTSTART;TZID=America/Los_Angeles:20260422T050000
DTEND;TZID=America/Los_Angeles:20260422T060000
DTSTAMP:20260422T030830
CREATED:20260419T052042Z
LAST-MODIFIED:20260419T052042Z
UID:35415-1776834000-1776837600@southsoundbirds.org
SUMMARY:Morning Bird Sit
DESCRIPTION:A Bird Sit is a mindful and bird-nerd practice involving sitting quietly for 45 minutes at sunrise to observe\, listen to\, and connect with local birds.  We will practice stillness\, slowing down to notice bird behavior and vocalizations\, and immersing ourselves in the dawn chorus.  This practice will foster relaxation\, deeper nature connection\, and increase your knowledge of bird language.  Bring warm and dry layers\, a folding chair or a dry cushion to sit on\, and a notepad if you’d like. \nThe Bird Sit begins at 5:00 am sharp at the Legacy Pavilion at Lake Sylvia State Park\, led by Park Ranger Stacy Munson. \nA Discover Pass is not needed for this event.
URL:https://southsoundbirds.org/event/morning-bird-sit/
LOCATION:Lake Sylvia State Park\, 1812 Lake Sylvia Road North\, Montesano\, WA\, United States
CATEGORIES:Other Events
ATTACH;FMTTYPE=image/png:https://southsoundbirds.org/wp-content/uploads/2024/02/Song-Sparrow.png
ORGANIZER;CN="Friends of Schafer and Lake Sylvia":MAILTO:info@fosls.org
END:VEVENT
END:VCALENDAR